BEGIN:VCALENDAR
VERSION:2.0
PRODID:spatie/icalendar-generator
DESCRIPTION:Events from Thal Acres
X-WR-CALDESC:Events from Thal Acres
REFRESH-INTERVAL;VALUE=DURATION:PT1440M
X-PUBLISHED-TTL:PT1440M
BEGIN:VTIMEZONE
TZID:Etc/GMT+0
BEGIN:STANDARD
DTSTART:20241228T183000Z
TZOFFSETFROM:+0000
TZOFFSETTO:+0000
END:STANDARD
END:VTIMEZONE
BEGIN:VTIMEZONE
TZID:UTC
BEGIN:STANDARD
DTSTART:20250727T144916Z
TZOFFSETFROM:+0000
TZOFFSETTO:+0000
END:STANDARD
END:VTIMEZONE
BEGIN:VEVENT
UID:118-6
DTSTAMP:20260423T144916Z
SUMMARY:Wednesday Men Bowling League
LOCATION:Thal Acres
ORGANIZER;CN=ashley:MAILTO:info@thalacres.com
RRULE:FREQ=WEEKLY;UNTIL=20260408T000000Z
DTSTART;TZID=Etc/GMT+0:20250924T183000
DTEND;TZID=Etc/GMT+0:20250924T203000
X-ALT-DESC;FMTTYPE=TEXT/HTML:Thursdays at Noon 3 person Mixed Teams Start 9
 /17 End 4/1 Roll Offs 4/8 Off 12/24 and 12/31
CATEGORIES:Bowling
URL;VALUE=URI:https://thalacres.com/mc-events/wednesday-men-bowling-league/
 ?mc_id=118
METHOD:PUBLISH
END:VEVENT
END:VCALENDAR