BEGIN:VCALENDAR
VERSION:2.0
PRODID:spatie/icalendar-generator
DESCRIPTION:Events from Thal Acres
X-WR-CALDESC:Events from Thal Acres
REFRESH-INTERVAL;VALUE=DURATION:PT1440M
X-PUBLISHED-TTL:PT1440M
BEGIN:VTIMEZONE
TZID:Etc/GMT+0
BEGIN:STANDARD
DTSTART:20241224T190000Z
TZOFFSETFROM:+0000
TZOFFSETTO:+0000
END:STANDARD
END:VTIMEZONE
BEGIN:VTIMEZONE
TZID:UTC
BEGIN:STANDARD
DTSTART:20250727T162534Z
TZOFFSETFROM:+0000
TZOFFSETTO:+0000
END:STANDARD
END:VTIMEZONE
BEGIN:VEVENT
UID:177-9
DTSTAMP:20260423T162534Z
SUMMARY:Glow in the dark Night Golf Outing
LOCATION:Thal Acres
ORGANIZER;CN=ashley:MAILTO:info@thalacres.com
DTSTART;TZID=Etc/GMT+0:20250920T190000
DTEND;TZID=Etc/GMT+0:20250920T220000
X-ALT-DESC;FMTTYPE=TEXT/HTML:Benefiting the Westfield Volleyball Program St
 arts at 7pm
CATEGORIES:Golf
URL;VALUE=URI:https://thalacres.com/mc-events/glow-in-the-dark-night-golf-o
 uting/
METHOD:PUBLISH
END:VEVENT
END:VCALENDAR