BEGIN:VCALENDAR
VERSION:2.0
PRODID:spatie/icalendar-generator
DESCRIPTION:Events from Thal Acres
X-WR-CALDESC:Events from Thal Acres
REFRESH-INTERVAL;VALUE=DURATION:PT1440M
X-PUBLISHED-TTL:PT1440M
BEGIN:VTIMEZONE
TZID:Etc/GMT+0
BEGIN:STANDARD
DTSTART:20250113T170000Z
TZOFFSETFROM:+0000
TZOFFSETTO:+0000
END:STANDARD
END:VTIMEZONE
BEGIN:VTIMEZONE
TZID:UTC
BEGIN:STANDARD
DTSTART:20250727T173049Z
TZOFFSETFROM:+0000
TZOFFSETTO:+0000
END:STANDARD
END:VTIMEZONE
BEGIN:VEVENT
UID:245-13
DTSTAMP:20260423T173049Z
SUMMARY:Happy Hour
LOCATION:
ORGANIZER;CN=ashley:MAILTO:info@thalacres.com
RRULE:FREQ=WEEKLY;UNTIL=20251231T000000Z
DTSTART;TZID=Etc/GMT+0:20251010T170000
DTEND;TZID=Etc/GMT+0:20251010T190000
X-ALT-DESC;FMTTYPE=TEXT/HTML:Every Friday 5-7pm! Free popcorn
CATEGORIES:General
URL;VALUE=URI:https://thalacres.com/mc-events/happy-hour/?mc_id=245
METHOD:PUBLISH
END:VEVENT
END:VCALENDAR