BEGIN:VCALENDAR
VERSION:2.0
PRODID:spatie/icalendar-generator
DESCRIPTION:Events from Thal Acres
X-WR-CALDESC:Events from Thal Acres
REFRESH-INTERVAL;VALUE=DURATION:PT1440M
X-PUBLISHED-TTL:PT1440M
BEGIN:VTIMEZONE
TZID:Etc/GMT+0
BEGIN:STANDARD
DTSTART:20250330T000000Z
TZOFFSETFROM:+0000
TZOFFSETTO:+0000
END:STANDARD
END:VTIMEZONE
BEGIN:VTIMEZONE
TZID:UTC
BEGIN:STANDARD
DTSTART:20250728T071815Z
TZOFFSETFROM:+0000
TZOFFSETTO:+0000
END:STANDARD
END:VTIMEZONE
BEGIN:VEVENT
UID:258-15
DTSTAMP:20260424T071815Z
SUMMARY:CLOSED Merry Christmas!
LOCATION:
ORGANIZER;CN=ashley:MAILTO:info@thalacres.com
RRULE:FREQ=YEARLY;BYMONTH=12;BYDAY=25;UNTIL=20290102T000000Z
DTSTART;TZID=Etc/GMT+0;VALUE=DATE:20251225
DTEND;TZID=Etc/GMT+0;VALUE=DATE:20251226
X-ALT-DESC;FMTTYPE=TEXT/HTML:
CATEGORIES:General
URL;VALUE=URI:https://thalacres.com/mc-events/closed-merry-christmas/?mc_id
 =258
METHOD:PUBLISH
END:VEVENT
END:VCALENDAR