BEGIN:VCALENDAR
VERSION:2.0
PRODID:spatie/icalendar-generator
DESCRIPTION:Events from Thal Acres
X-WR-CALDESC:Events from Thal Acres
REFRESH-INTERVAL;VALUE=DURATION:PT1440M
X-PUBLISHED-TTL:PT1440M
BEGIN:VTIMEZONE
TZID:Etc/GMT+0
BEGIN:STANDARD
DTSTART:20250116T090000Z
TZOFFSETFROM:+0000
TZOFFSETTO:+0000
END:STANDARD
END:VTIMEZONE
BEGIN:VTIMEZONE
TZID:UTC
BEGIN:STANDARD
DTSTART:20250727T145105Z
TZOFFSETFROM:+0000
TZOFFSETTO:+0000
END:STANDARD
END:VTIMEZONE
BEGIN:VEVENT
UID:265-18
DTSTAMP:20260423T145105Z
SUMMARY:Black Monday Golf Scramble
LOCATION:
ORGANIZER;CN=ashley:MAILTO:info@thalacres.com
DTSTART;TZID=Etc/GMT+0:20251013T090000
DTEND;TZID=Etc/GMT+0:20251013T130000
X-ALT-DESC;FMTTYPE=TEXT/HTML:No work\, all play! Celebrate your day off wit
 h our Black Monday Golf Scramble. Grab your team\, hit the course\, and en
 joy a Monday filled with golf and good times. 9am Start
CATEGORIES:Golf
URL;VALUE=URI:https://thalacres.com/mc-events/black-monday-golf-scramble/
METHOD:PUBLISH
END:VEVENT
END:VCALENDAR