BEGIN:VCALENDAR
VERSION:2.0
PRODID:spatie/icalendar-generator
DESCRIPTION:Events from Thal Acres
X-WR-CALDESC:Events from Thal Acres
REFRESH-INTERVAL;VALUE=DURATION:PT1440M
X-PUBLISHED-TTL:PT1440M
BEGIN:VTIMEZONE
TZID:Etc/GMT+0
BEGIN:STANDARD
DTSTART:20250203T180000Z
TZOFFSETFROM:+0000
TZOFFSETTO:+0000
END:STANDARD
END:VTIMEZONE
BEGIN:VTIMEZONE
TZID:UTC
BEGIN:STANDARD
DTSTART:20250728T021713Z
TZOFFSETFROM:+0000
TZOFFSETTO:+0000
END:STANDARD
END:VTIMEZONE
BEGIN:VEVENT
UID:266-19
DTSTAMP:20260424T021713Z
SUMMARY:Halloween Party
LOCATION:Thal Acres
ORGANIZER;CN=ashley:MAILTO:info@thalacres.com
DTSTART;TZID=Etc/GMT+0:20251031T180000
DTEND;TZID=Etc/GMT+0:20251031T190000
X-ALT-DESC;FMTTYPE=TEXT/HTML:Starting at 6! Free bowling 7-8pm for kids. Dr
 ink Specials\, free popcorn &amp;amp\; Candy!
CATEGORIES:General
URL;VALUE=URI:https://thalacres.com/mc-events/halloween-party/
METHOD:PUBLISH
END:VEVENT
END:VCALENDAR