BEGIN:VCALENDAR
VERSION:2.0
PRODID:spatie/icalendar-generator
DESCRIPTION:Events from Thal Acres
X-WR-CALDESC:Events from Thal Acres
REFRESH-INTERVAL;VALUE=DURATION:PT1440M
X-PUBLISHED-TTL:PT1440M
BEGIN:VTIMEZONE
TZID:Etc/GMT+0
BEGIN:STANDARD
DTSTART:20250224T160000Z
TZOFFSETFROM:+0000
TZOFFSETTO:+0000
END:STANDARD
END:VTIMEZONE
BEGIN:VTIMEZONE
TZID:UTC
BEGIN:STANDARD
DTSTART:20250728T173508Z
TZOFFSETFROM:+0000
TZOFFSETTO:+0000
END:STANDARD
END:VTIMEZONE
BEGIN:VEVENT
UID:275-27
DTSTAMP:20260424T173508Z
SUMMARY:Grade School Bowling League
LOCATION:
ORGANIZER;CN=ashley:MAILTO:info@thalacres.com
DTSTART;TZID=Etc/GMT+0:20251121T160000
DTEND;TZID=Etc/GMT+0:20251121T172900
X-ALT-DESC;FMTTYPE=TEXT/HTML:4:00 pm – 5:30 pm November 18\, 2025 Tuesd
 ays 4pm-5:30pm Oct 21 - March 10 No League Dec 30th Coach: Mike Deborah 60
 8-566-0125 $12 per week &amp;amp\; $10 Sanction Fee (1 time charge) OR $240 fo
 r the season (Sanction Fee included) Thal Acres
CATEGORIES:Bowling
URL;VALUE=URI:https://thalacres.com/mc-events/grade-school-bowling-league-3
 /
METHOD:PUBLISH
END:VEVENT
END:VCALENDAR