BEGIN:VCALENDAR
VERSION:2.0
PRODID:spatie/icalendar-generator
DESCRIPTION:Events from Thal Acres
X-WR-CALDESC:Events from Thal Acres
REFRESH-INTERVAL;VALUE=DURATION:PT1440M
X-PUBLISHED-TTL:PT1440M
BEGIN:VTIMEZONE
TZID:Etc/GMT+0
BEGIN:STANDARD
DTSTART:20250425T160000Z
TZOFFSETFROM:+0000
TZOFFSETTO:+0000
END:STANDARD
END:VTIMEZONE
BEGIN:VTIMEZONE
TZID:UTC
BEGIN:STANDARD
DTSTART:20250729T135236Z
TZOFFSETFROM:+0000
TZOFFSETTO:+0000
END:STANDARD
END:VTIMEZONE
BEGIN:VEVENT
UID:304-31
DTSTAMP:20260425T135236Z
SUMMARY:Grade School Bowling League
LOCATION:
ORGANIZER;CN=ashley:MAILTO:info@thalacres.com
RRULE:FREQ=WEEKLY;UNTIL=20260310T000000Z
DTSTART;TZID=Etc/GMT+0:20260120T160000
DTEND;TZID=Etc/GMT+0:20260120T173000
X-ALT-DESC;FMTTYPE=TEXT/HTML:Oct 21 - March 10 No League Dec 30th Coach:  
 Mike Deborah 608-566-0125 $12 per week &amp;amp\; $10 Sanction Fee (1-time cha
 rge) OR $240 for the season (Sanction Fee included)
CATEGORIES:Bowling
URL;VALUE=URI:https://thalacres.com/mc-events/grade-school-bowling-league-6
 /?mc_id=304
METHOD:PUBLISH
END:VEVENT
END:VCALENDAR