BEGIN:VCALENDAR
VERSION:2.0
PRODID:spatie/icalendar-generator
DESCRIPTION:Events from Thal Acres
X-WR-CALDESC:Events from Thal Acres
REFRESH-INTERVAL;VALUE=DURATION:PT1440M
X-PUBLISHED-TTL:PT1440M
BEGIN:VTIMEZONE
TZID:Etc/GMT+0
BEGIN:STANDARD
DTSTART:20250408T230000Z
TZOFFSETFROM:+0000
TZOFFSETTO:+0000
END:STANDARD
END:VTIMEZONE
BEGIN:VTIMEZONE
TZID:UTC
BEGIN:STANDARD
DTSTART:20250728T140903Z
TZOFFSETFROM:+0000
TZOFFSETTO:+0000
END:STANDARD
END:VTIMEZONE
BEGIN:VEVENT
UID:330-41
DTSTAMP:20260424T140903Z
SUMMARY:Youth Bowling Scholarship Tournament
LOCATION:
ORGANIZER;CN=ashley:MAILTO:info@thalacres.com
DTSTART;TZID=Etc/GMT+0:20260103T230000
DTEND;TZID=Etc/GMT+0:20260103T235900
X-ALT-DESC;FMTTYPE=TEXT/HTML:$20 per bowler First 40 paid bowlers will bowl
 . $1200 in scholarships paid out in 2025! Youth thru 5th grade  - Boys &amp;a
 mp\; girls together.  Handicapped 80% to 140 6th thru 8th grade - Boys &amp;a
 mp\; girls together.  Handicapped 80% to 200 High School - Boys &amp;amp\; gi
 rls together.  Handicapped 80% to 215. All bowlers&amp;hellip\;
CATEGORIES:Bowling
URL;VALUE=URI:https://thalacres.com/mc-events/youth-bowling-scholarship-tou
 rnament/
METHOD:PUBLISH
END:VEVENT
END:VCALENDAR