BEGIN:VCALENDAR
VERSION:2.0
PRODID:spatie/icalendar-generator
DESCRIPTION:Events from Thal Acres
X-WR-CALDESC:Events from Thal Acres
REFRESH-INTERVAL;VALUE=DURATION:PT1440M
X-PUBLISHED-TTL:PT1440M
BEGIN:VTIMEZONE
TZID:Etc/GMT+0
BEGIN:STANDARD
DTSTART:20250402T160000Z
TZOFFSETFROM:+0000
TZOFFSETTO:+0000
END:STANDARD
END:VTIMEZONE
BEGIN:VTIMEZONE
TZID:UTC
BEGIN:STANDARD
DTSTART:20250728T105036Z
TZOFFSETFROM:+0000
TZOFFSETTO:+0000
END:STANDARD
END:VTIMEZONE
BEGIN:VEVENT
UID:331-42
DTSTAMP:20260424T105036Z
SUMMARY:New Year's Eve Party
LOCATION:
ORGANIZER;CN=ashley:MAILTO:info@thalacres.com
DTSTART;TZID=Etc/GMT+0:20251228T160000
DTEND;TZID=Etc/GMT+0:20251228T210000
X-ALT-DESC;FMTTYPE=TEXT/HTML:Call to save your lane! Drink &amp;amp\; bowling s
 pecials. Kid friendly til 9pm.
CATEGORIES:General
URL;VALUE=URI:https://thalacres.com/mc-events/new-years-eve-party/
METHOD:PUBLISH
END:VEVENT
END:VCALENDAR