BEGIN:VCALENDAR
VERSION:2.0
PRODID:spatie/icalendar-generator
DESCRIPTION:Events from Thal Acres
X-WR-CALDESC:Events from Thal Acres
REFRESH-INTERVAL;VALUE=DURATION:PT1440M
X-PUBLISHED-TTL:PT1440M
BEGIN:VTIMEZONE
TZID:Etc/GMT+0
BEGIN:STANDARD
DTSTART:20250802T000000Z
TZOFFSETFROM:+0000
TZOFFSETTO:+0000
END:STANDARD
END:VTIMEZONE
BEGIN:VTIMEZONE
TZID:UTC
BEGIN:STANDARD
DTSTART:20250727T145434Z
TZOFFSETFROM:+0000
TZOFFSETTO:+0000
END:STANDARD
END:VTIMEZONE
BEGIN:VEVENT
UID:347-58
DTSTAMP:20260423T145434Z
SUMMARY:Senior/Day League Starts
LOCATION:
ORGANIZER;CN=ashley:MAILTO:info@thalacres.com
DTSTART;TZID=Etc/GMT+0;VALUE=DATE:20260429
DTEND;TZID=Etc/GMT+0;VALUE=DATE:20260430
X-ALT-DESC;FMTTYPE=TEXT/HTML:
CATEGORIES:Golf
URL;VALUE=URI:https://thalacres.com/mc-events/senior-day-league-starts-2/
METHOD:PUBLISH
END:VEVENT
END:VCALENDAR