BEGIN:VCALENDAR
VERSION:2.0
PRODID:spatie/icalendar-generator
DESCRIPTION:Events from Thal Acres
X-WR-CALDESC:Events from Thal Acres
REFRESH-INTERVAL;VALUE=DURATION:PT1440M
X-PUBLISHED-TTL:PT1440M
BEGIN:VTIMEZONE
TZID:Etc/GMT+0
BEGIN:STANDARD
DTSTART:20241228T130000Z
TZOFFSETFROM:+0000
TZOFFSETTO:+0000
END:STANDARD
END:VTIMEZONE
BEGIN:VTIMEZONE
TZID:UTC
BEGIN:STANDARD
DTSTART:20250727T162335Z
TZOFFSETFROM:+0000
TZOFFSETTO:+0000
END:STANDARD
END:VTIMEZONE
BEGIN:VEVENT
UID:61-5
DTSTAMP:20260423T162335Z
SUMMARY:Rolling Does Ladies Bowling League
LOCATION:Thal Acres
ORGANIZER;CN=ashley:MAILTO:info@thalacres.com
RRULE:FREQ=WEEKLY;UNTIL=20260408T000000Z
DTSTART;TZID=Etc/GMT+0:20250924T130000
DTEND;TZID=Etc/GMT+0:20250924T150000
X-ALT-DESC;FMTTYPE=TEXT/HTML:Individual Ladies League Wednesdays at 1pm Sta
 rt 9/17 End 4/8 No Roll Offs OFF 12/24 and 12/31
CATEGORIES:Bowling
URL;VALUE=URI:https://thalacres.com/mc-events/rolling-does-ladies-bowling-l
 eague/?mc_id=61
METHOD:PUBLISH
END:VEVENT
END:VCALENDAR