BEGIN:VCALENDAR
VERSION:2.0
PRODID:spatie/icalendar-generator
DESCRIPTION:Events from Thal Acres
X-WR-CALDESC:Events from Thal Acres
REFRESH-INTERVAL;VALUE=DURATION:PT1440M
X-PUBLISHED-TTL:PT1440M
BEGIN:VTIMEZONE
TZID:Etc/GMT+0
BEGIN:STANDARD
DTSTART:20241220T183000Z
TZOFFSETFROM:+0000
TZOFFSETTO:+0000
END:STANDARD
END:VTIMEZONE
BEGIN:VTIMEZONE
TZID:UTC
BEGIN:STANDARD
DTSTART:20250727T162411Z
TZOFFSETFROM:+0000
TZOFFSETTO:+0000
END:STANDARD
END:VTIMEZONE
BEGIN:VEVENT
UID:89-3
DTSTAMP:20260423T162411Z
SUMMARY:Thals Gals Bowling League
LOCATION:Thal Acres
ORGANIZER;CN=ashley:MAILTO:info@thalacres.com
RRULE:FREQ=WEEKLY;UNTIL=20260331T000000Z
DTSTART;TZID=Etc/GMT+0:20250916T183000
DTEND;TZID=Etc/GMT+0:20250916T203000
X-ALT-DESC;FMTTYPE=TEXT/HTML:2 or 4 person Ladies League 6:30pm Tuesdays St
 art 9/16\, Finish 3/12 Roll Offs 3/31
CATEGORIES:Bowling
URL;VALUE=URI:https://thalacres.com/mc-events/thals-gals-bowling-league/?mc
 _id=89
METHOD:PUBLISH
END:VEVENT
END:VCALENDAR