BEGIN:VCALENDAR
VERSION:2.0
PRODID:spatie/icalendar-generator
DESCRIPTION:Events from Thal Acres
X-WR-CALDESC:Events from Thal Acres
REFRESH-INTERVAL;VALUE=DURATION:PT1440M
X-PUBLISHED-TTL:PT1440M
BEGIN:VTIMEZONE
TZID:Etc/GMT+0
BEGIN:STANDARD
DTSTART:20250608T160000Z
TZOFFSETFROM:+0000
TZOFFSETTO:+0000
END:STANDARD
END:VTIMEZONE
BEGIN:VTIMEZONE
TZID:UTC
BEGIN:STANDARD
DTSTART:20250727T185810Z
TZOFFSETFROM:+0000
TZOFFSETTO:+0000
END:STANDARD
END:VTIMEZONE
BEGIN:VEVENT
UID:238-11
DTSTAMP:20260423T185810Z
SUMMARY:High School Bowling League
LOCATION:Thal Acres
ORGANIZER;CN=ashley:MAILTO:info@thalacres.com
RRULE:FREQ=WEEKLY;UNTIL=20260312T000000Z
DTSTART;TZID=Etc/GMT+0:20260305T160000
DTEND;TZID=Etc/GMT+0:20260305T173000
X-ALT-DESC;FMTTYPE=TEXT/HTML:Thursdays 4pm-5:30pm Oct 23 - March 12 No Leag
 ue Nov 27\, Dec 25 or Jan 1 Coach: Mike Deborah 608-566-0125 $12 per week 
 &amp;amp\; $10 Sanction Fee (1 time charge) OR $216 for the season (Sanction F
 ee included)
CATEGORIES:Bowling
URL;VALUE=URI:https://thalacres.com/mc-events/high-school-bowling-league/?m
 c_id=238
METHOD:PUBLISH
END:VEVENT
END:VCALENDAR