BEGIN:VCALENDAR
VERSION:2.0
PRODID:spatie/icalendar-generator
DESCRIPTION:Events from Thal Acres
X-WR-CALDESC:Events from Thal Acres
REFRESH-INTERVAL;VALUE=DURATION:PT1440M
X-PUBLISHED-TTL:PT1440M
BEGIN:VTIMEZONE
TZID:Etc/GMT+0
BEGIN:STANDARD
DTSTART:20250121T100000Z
TZOFFSETFROM:+0000
TZOFFSETTO:+0000
END:STANDARD
END:VTIMEZONE
BEGIN:VTIMEZONE
TZID:UTC
BEGIN:STANDARD
DTSTART:20250727T174542Z
TZOFFSETFROM:+0000
TZOFFSETTO:+0000
END:STANDARD
END:VTIMEZONE
BEGIN:VEVENT
UID:264-17
DTSTAMP:20260423T174542Z
SUMMARY:The Big Cup Scramble
LOCATION:
ORGANIZER;CN=ashley:MAILTO:info@thalacres.com
DTSTART;TZID=Etc/GMT+0:20251018T100000
DTEND;TZID=Etc/GMT+0:20251018T150000
X-ALT-DESC;FMTTYPE=TEXT/HTML:Fall golf with a twist! Our Big Cup Golf Outin
 g is all about good shots\, good company\, and good times. Oversized cups 
 make the game faster\, more fun\, and perfect for every skill level. Begin
 s at 10am. Call the clubhouse to sign up!
CATEGORIES:Golf
URL;VALUE=URI:https://thalacres.com/mc-events/the-big-cup-scramble/
METHOD:PUBLISH
END:VEVENT
END:VCALENDAR