BEGIN:VCALENDAR
VERSION:2.0
PRODID:spatie/icalendar-generator
DESCRIPTION:Events from Thal Acres
X-WR-CALDESC:Events from Thal Acres
REFRESH-INTERVAL;VALUE=DURATION:PT1440M
X-PUBLISHED-TTL:PT1440M
BEGIN:VTIMEZONE
TZID:Etc/GMT+0
BEGIN:STANDARD
DTSTART:20250303T080000Z
TZOFFSETFROM:+0000
TZOFFSETTO:+0000
END:STANDARD
END:VTIMEZONE
BEGIN:VTIMEZONE
TZID:UTC
BEGIN:STANDARD
DTSTART:20250728T220240Z
TZOFFSETFROM:+0000
TZOFFSETTO:+0000
END:STANDARD
END:VTIMEZONE
BEGIN:VEVENT
UID:268-20
DTSTAMP:20260424T220240Z
SUMMARY:Taste &amp;amp\; Tour
LOCATION:Thal Acres
ORGANIZER;CN=ashley:MAILTO:info@thalacres.com
DTSTART;TZID=Etc/GMT+0:20251128T080000
DTEND;TZID=Etc/GMT+0:20251129T160000
X-ALT-DESC;FMTTYPE=TEXT/HTML:Stop out at Thals for gift shopping\, good foo
 d &amp;amp\; to get your map stamped! 8-4 Fri &amp;amp\; Sat
CATEGORIES:General
URL;VALUE=URI:https://thalacres.com/mc-events/taste-tour/
METHOD:PUBLISH
END:VEVENT
END:VCALENDAR