BEGIN:VCALENDAR
VERSION:2.0
PRODID:spatie/icalendar-generator
DESCRIPTION:Events from Thal Acres
X-WR-CALDESC:Events from Thal Acres
REFRESH-INTERVAL;VALUE=DURATION:PT1440M
X-PUBLISHED-TTL:PT1440M
BEGIN:VTIMEZONE
TZID:Etc/GMT+0
BEGIN:STANDARD
DTSTART:20250124T160000Z
TZOFFSETFROM:+0000
TZOFFSETTO:+0000
END:STANDARD
END:VTIMEZONE
BEGIN:VTIMEZONE
TZID:UTC
BEGIN:STANDARD
DTSTART:20250727T172315Z
TZOFFSETFROM:+0000
TZOFFSETTO:+0000
END:STANDARD
END:VTIMEZONE
BEGIN:VEVENT
UID:276-28
DTSTAMP:20260423T172315Z
SUMMARY:Grade School Bowling League
LOCATION:
ORGANIZER;CN=ashley:MAILTO:info@thalacres.com
DTSTART;TZID=Etc/GMT+0:20251021T160000
DTEND;TZID=Etc/GMT+0:20251021T173000
X-ALT-DESC;FMTTYPE=TEXT/HTML:Tuesdays 4pm-5:30pm Oct 21 - March 10 No Leagu
 e Dec 30th Coach: Mike Deborah 608-566-0125 $12 per week &amp;amp\; $10 Sancti
 on Fee (1 time charge) OR $240 for the season (Sanction Fee included) Thal
  Acres
CATEGORIES:Bowling
URL;VALUE=URI:https://thalacres.com/mc-events/grade-school-bowling-league-4
 /
METHOD:PUBLISH
END:VEVENT
END:VCALENDAR