BEGIN:VCALENDAR
VERSION:2.0
PRODID:spatie/icalendar-generator
DESCRIPTION:Events from Thal Acres
X-WR-CALDESC:Events from Thal Acres
REFRESH-INTERVAL;VALUE=DURATION:PT1440M
X-PUBLISHED-TTL:PT1440M
BEGIN:VTIMEZONE
TZID:Etc/GMT+0
BEGIN:STANDARD
DTSTART:20250422T120000Z
TZOFFSETFROM:+0000
TZOFFSETTO:+0000
END:STANDARD
END:VTIMEZONE
BEGIN:VTIMEZONE
TZID:UTC
BEGIN:STANDARD
DTSTART:20250729T140525Z
TZOFFSETFROM:+0000
TZOFFSETTO:+0000
END:STANDARD
END:VTIMEZONE
BEGIN:VEVENT
UID:319-37
DTSTAMP:20260425T140525Z
SUMMARY:Cabin Fever 9-Pin Tap Tournament
LOCATION:
ORGANIZER;CN=ashley:MAILTO:info@thalacres.com
DTSTART;TZID=Etc/GMT+0:20260117T120000
DTEND;TZID=Etc/GMT+0:20260117T150000
X-ALT-DESC;FMTTYPE=TEXT/HTML:$500 1st Place Money $25 Entry Fee Bowl 3 game
 s.  Bowl as often as you like\, cash once. 1st Place - $500\,  2nd Place
  - $400\, 3rd Place - $250 (Prize money based on 250 total entries) Squad 
 Leaders:  Form a squad of 16 bowlers and you bowl free! Strike is a strik
 e\, 9 is&amp;hellip\;
CATEGORIES:Bowling
URL;VALUE=URI:https://thalacres.com/mc-events/cabin-fever-9-pin-tap-tournam
 ent-5/
METHOD:PUBLISH
END:VEVENT
END:VCALENDAR