BEGIN:VCALENDAR
VERSION:2.0
PRODID:spatie/icalendar-generator
DESCRIPTION:Events from Thal Acres
X-WR-CALDESC:Events from Thal Acres
REFRESH-INTERVAL;VALUE=DURATION:PT1440M
X-PUBLISHED-TTL:PT1440M
BEGIN:VTIMEZONE
TZID:Etc/GMT+0
BEGIN:STANDARD
DTSTART:20250719T180000Z
TZOFFSETFROM:+0000
TZOFFSETTO:+0000
END:STANDARD
END:VTIMEZONE
BEGIN:VTIMEZONE
TZID:UTC
BEGIN:STANDARD
DTSTART:20250727T111505Z
TZOFFSETFROM:+0000
TZOFFSETTO:+0000
END:STANDARD
END:VTIMEZONE
BEGIN:VEVENT
UID:343-54
DTSTAMP:20260423T111505Z
SUMMARY:Men’s Golf Meeting
LOCATION:
ORGANIZER;CN=ashley:MAILTO:info@thalacres.com
DTSTART;TZID=Etc/GMT+0:20260415T180000
DTEND;TZID=Etc/GMT+0:20260415T193000
X-ALT-DESC;FMTTYPE=TEXT/HTML:1st Day of League - April 28th &amp;amp\; 30th
CATEGORIES:Golf
URL;VALUE=URI:https://thalacres.com/mc-events/mens-golf-meeting/
METHOD:PUBLISH
END:VEVENT
END:VCALENDAR