BEGIN:VCALENDAR
VERSION:2.0
PRODID:spatie/icalendar-generator
DESCRIPTION:Events from Thal Acres
X-WR-CALDESC:Events from Thal Acres
REFRESH-INTERVAL;VALUE=DURATION:PT1440M
X-PUBLISHED-TTL:PT1440M
BEGIN:VTIMEZONE
TZID:Etc/GMT+0
BEGIN:STANDARD
DTSTART:20250724T180000Z
TZOFFSETFROM:+0000
TZOFFSETTO:+0000
END:STANDARD
END:VTIMEZONE
BEGIN:VTIMEZONE
TZID:UTC
BEGIN:STANDARD
DTSTART:20250727T111606Z
TZOFFSETFROM:+0000
TZOFFSETTO:+0000
END:STANDARD
END:VTIMEZONE
BEGIN:VEVENT
UID:344-55
DTSTAMP:20260423T111606Z
SUMMARY:Women’s Golf Meeting
LOCATION:
ORGANIZER;CN=ashley:MAILTO:info@thalacres.com
DTSTART;TZID=Etc/GMT+0:20260420T180000
DTEND;TZID=Etc/GMT+0:20260420T193000
X-ALT-DESC;FMTTYPE=TEXT/HTML:1st Day of League - May 4th and 6th
CATEGORIES:Golf
URL;VALUE=URI:https://thalacres.com/mc-events/womens-golf-meeting/
METHOD:PUBLISH
END:VEVENT
END:VCALENDAR