BEGIN:VCALENDAR
VERSION:2.0
PRODID:spatie/icalendar-generator
DESCRIPTION:Events from Thal Acres
X-WR-CALDESC:Events from Thal Acres
REFRESH-INTERVAL;VALUE=DURATION:PT1440M
X-PUBLISHED-TTL:PT1440M
BEGIN:VTIMEZONE
TZID:Etc/GMT+0
BEGIN:STANDARD
DTSTART:20250719T090000Z
TZOFFSETFROM:+0000
TZOFFSETTO:+0000
END:STANDARD
END:VTIMEZONE
BEGIN:VTIMEZONE
TZID:UTC
BEGIN:STANDARD
DTSTART:20250727T124840Z
TZOFFSETFROM:+0000
TZOFFSETTO:+0000
END:STANDARD
END:VTIMEZONE
BEGIN:VEVENT
UID:345-56
DTSTAMP:20260423T124840Z
SUMMARY:Senior/Day Golf League Meeting
LOCATION:
ORGANIZER;CN=ashley:MAILTO:info@thalacres.com
DTSTART;TZID=Etc/GMT+0:20260415T090000
DTEND;TZID=Etc/GMT+0:20260415T103000
X-ALT-DESC;FMTTYPE=TEXT/HTML:1st Day of League - April 27th &amp;amp\; 29th
CATEGORIES:Golf
URL;VALUE=URI:https://thalacres.com/mc-events/senior-day-golf-league-meetin
 g/
METHOD:PUBLISH
END:VEVENT
END:VCALENDAR