BEGIN:VCALENDAR
VERSION:2.0
PRODID:spatie/icalendar-generator
DESCRIPTION:Events from Thal Acres
X-WR-CALDESC:Events from Thal Acres
REFRESH-INTERVAL;VALUE=DURATION:PT1440M
X-PUBLISHED-TTL:PT1440M
BEGIN:VTIMEZONE
TZID:Etc/GMT+0
BEGIN:STANDARD
DTSTART:20250809T000000Z
TZOFFSETFROM:+0000
TZOFFSETTO:+0000
END:STANDARD
END:VTIMEZONE
BEGIN:VTIMEZONE
TZID:UTC
BEGIN:STANDARD
DTSTART:20250727T185150Z
TZOFFSETFROM:+0000
TZOFFSETTO:+0000
END:STANDARD
END:VTIMEZONE
BEGIN:VEVENT
UID:349-60
DTSTAMP:20260423T185150Z
SUMMARY:Women’s League Starts
LOCATION:
ORGANIZER;CN=ashley:MAILTO:info@thalacres.com
DTSTART;TZID=Etc/GMT+0;VALUE=DATE:20260506
DTEND;TZID=Etc/GMT+0;VALUE=DATE:20260507
X-ALT-DESC;FMTTYPE=TEXT/HTML:
CATEGORIES:Golf
URL;VALUE=URI:https://thalacres.com/mc-events/womens-league-starts-2/
METHOD:PUBLISH
END:VEVENT
END:VCALENDAR