BEGIN:VCALENDAR
VERSION:2.0
PRODID:spatie/icalendar-generator
DESCRIPTION:Events from Thal Acres
X-WR-CALDESC:Events from Thal Acres
REFRESH-INTERVAL;VALUE=DURATION:PT1440M
X-PUBLISHED-TTL:PT1440M
BEGIN:VTIMEZONE
TZID:Etc/GMT+0
BEGIN:STANDARD
DTSTART:20250723T150000Z
TZOFFSETFROM:+0000
TZOFFSETTO:+0000
END:STANDARD
END:VTIMEZONE
BEGIN:VTIMEZONE
TZID:UTC
BEGIN:STANDARD
DTSTART:20250727T111627Z
TZOFFSETFROM:+0000
TZOFFSETTO:+0000
END:STANDARD
END:VTIMEZONE
BEGIN:VEVENT
UID:358-50
DTSTAMP:20260423T111627Z
SUMMARY:Jazz under the Pavilion
LOCATION:
ORGANIZER;CN=ashley:MAILTO:info@thalacres.com
DTSTART;TZID=Etc/GMT+0:20260419T150000
DTEND;TZID=Etc/GMT+0:20260419T170000
X-ALT-DESC;FMTTYPE=TEXT/HTML:Hosted by WAHS Jazz Band
CATEGORIES:General
URL;VALUE=URI:https://thalacres.com/mc-events/jazz-under-the-pavilion/
METHOD:PUBLISH
END:VEVENT
END:VCALENDAR